BEGIN:VCALENDAR
VERSION:2.0
PRODID:-// - ECPv6.8.3//NONSGML v1.0//EN
CALSCALE:GREGORIAN
METHOD:PUBLISH
X-ORIGINAL-URL:https://congresorecursoshumanos.com
X-WR-CALDESC:Events for 
REFRESH-INTERVAL;VALUE=DURATION:PT1H
X-Robots-Tag:noindex
X-PUBLISHED-TTL:PT1H
BEGIN:VTIMEZONE
TZID:UTC
BEGIN:STANDARD
TZOFFSETFROM:+0000
TZOFFSETTO:+0000
TZNAME:UTC
DTSTART:20170101T000000
END:STANDARD
END:VTIMEZONE
BEGIN:VEVENT
DTSTART;TZID=UTC:20171031T080000
DTEND;TZID=UTC:20171101T170000
DTSTAMP:20260420T060022
CREATED:20170531T080320Z
LAST-MODIFIED:20170607T090548Z
UID:1450-1509436800-1509555600@congresorecursoshumanos.com
SUMMARY:DAY 1 TOPIC: COMMERCIAL CYBER SECURITY
DESCRIPTION:Working with your website’s or your application’s backend architecture is just as important as making sure that the wheelbase of your car is ok\, before driving it. This is why we are sure that coding hackathon’s such as the OperationCode is\, provides awesome\, deadline-rich practice for all of these skills! \nWorking with your website’s or your application’s backend architecture is just as important as making sure that the wheelbase of your car is ok\, before driving it. This is why we are sure that coding hackathon’s such as the OperationCode is\, provides awesome\, deadline-rich practice for all of these skills!
URL:https://congresorecursoshumanos.com/event/day-1-topic-commercial-cyber-security/
END:VEVENT
END:VCALENDAR